BEGIN:VCALENDAR
VERSION:2.0
PRODID:-//Mulcahys - ECPv6.15.20//NONSGML v1.0//EN
CALSCALE:GREGORIAN
METHOD:PUBLISH
X-WR-CALNAME:Mulcahys
X-ORIGINAL-URL:https://mulcahyslongisland.com
X-WR-CALDESC:Events for Mulcahys
REFRESH-INTERVAL;VALUE=DURATION:PT1H
X-Robots-Tag:noindex
X-PUBLISHED-TTL:PT1H
BEGIN:VTIMEZONE
TZID:UTC
BEGIN:STANDARD
TZOFFSETFROM:+0000
TZOFFSETTO:+0000
TZNAME:UTC
DTSTART:20250101T000000
END:STANDARD
END:VTIMEZONE
BEGIN:VEVENT
DTSTART;TZID=UTC:20260422T190000
DTEND;TZID=UTC:20260422T233000
DTSTAMP:20260422T122520
CREATED:20260206T163516Z
LAST-MODIFIED:20260206T163845Z
UID:10000292-1776884400-1776900600@mulcahyslongisland.com
SUMMARY:Save Ferris
DESCRIPTION:Save Ferris @ Mulcahy’s  \nWednesday\, April 22. \nSave Ferris brings their energetic ska-rock sound to Mulcahy’s for a night of upbeat music and crowd-favorite songs. Known for their lively performances and infectious melodies\, the band delivers a fun\, high-energy show that keeps the crowd moving from start to finish. \nDon’t miss an evening of great music and good vibes. \nDoors at 7PM\nOpening Set by Adrian & Meredith at 8PM\nSave Ferris at 9PM \nGet your tickets now and Let’s have a good time!
URL:https://mulcahyslongisland.com/event/save-ferris/
LOCATION:Mulcahys\, 3232 Railroad Avenue\, Wantagh\, 11793\, United States
CATEGORIES:All,concerts
ATTACH;FMTTYPE=image/png:https://mulcahyslongisland.com/wp-content/uploads/2026/02/SAVEFERRIS-INSTA-APRIL22-1.png
END:VEVENT
END:VCALENDAR